Workbook

Sheet VRAGEN
A1: VRAGEN MKB-Quickscan IMVO-risicomanagement | D1: Uw antwoord | E1: Score Max | F1: Uw Score | H1: Wat nu?
A2: RS | B2: Voedingsmiddelenconvenant
A4: Algemeen
A5: =Codes1!A4 -> 1 | B5: =Codes1!C4 -> Tot welke sector (organisatie) behoort uw bedrijf? | D5: Maak uw keuze:
A7: =Codes1!A5 -> 2 | B7: =Codes1!C5 -> Welk type bedrijf betreft het? | D7: Maak uw keuze:
A9: =Codes1!A6 -> 3 | B9: =Codes1!C6 -> Wat is uw functie? | D9: Maak uw keuze:
A11: Inzicht & Actie
A12: =Codes1!A7 -> 4 | B12: =Codes1!C7 -> Heeft uw onderneming een actueel overzicht van de producten die u produceert en de daarin aanwezige grondstoffen? | D12: Maak uw keuze: | E12: =Codes1!$H$90 -> 5 | F12: =VLOOKUP(D12,Codes1!$E$89:$H$93,4,FALSE) -> 0 | H12: =VLOOKUP(D12,Codes1!D54:AZ58,5,FALSE)
A14: =Codes1!A8 -> 5 | B14: =Codes1!C8 -> Heeft uw onderneming een actueel overzicht van de eerstelijns productielocaties en subcontractors, inclusief naam en adresgegevens? | D14: Maak uw keuze: | E14: =Codes1!$H$90 -> 5 | F14: =VLOOKUP(D14,Codes1!$E$89:$H$93,4,FALSE) -> 0
A16: =Codes1!A9 -> 6 | B16: =Codes1!C9 -> Houdt u een periodieke evaluatie van de risico's en gevaren van uw grondstoffen en de borging hiervan bij uw leveranciers (gevarenidentificatie en risico-analyse: GIRA)? | D16: Maak uw keuze: | E16: =Codes1!$F$90 -> 3 | F16: =VLOOKUP(D16,Codes1!$E$89:$H$93,2,FALSE) -> 0
A18: =Codes1!A10 -> 7 | B18: =Codes1!C10 -> Welk type risico neemt u mee in deze GIRA? | C18: Type risico | D18: =D33 -> Geef hieronder uw antwoord
B19: (meerdere antwoorden mogelijk) | C19: =Codes1!K65 -> Voedselveiligheid | D19: Maak uw keuze: | E19: 3 | F19: =VLOOKUP(D19,Codes1!$E$89:$H$93,2,FALSE) -> 0
C20: =Codes1!K66 -> Voedselfraude | D20: Maak uw keuze: | E20: 3 | F20: =VLOOKUP(D20,Codes1!$E$89:$H$93,2,FALSE) -> 0
C21: =Codes1!K67 -> Arbeidsrechten | D21: Maak uw keuze: | E21: =Codes1!$H$90 -> 5 | F21: =VLOOKUP(D21,Codes1!$E$89:$H$93,4,FALSE) -> 0
C22: =Codes1!K68 -> Mensenrechten | D22: Maak uw keuze: | E22: =Codes1!$H$90 -> 5 | F22: =VLOOKUP(D22,Codes1!$E$89:$H$93,4,FALSE) -> 0
C23: =Codes1!K69 -> Milieu-impact | D23: Maak uw keuze: | E23: =Codes1!$H$90 -> 5 | F23: =VLOOKUP(D23,Codes1!$E$89:$H$93,4,FALSE) -> 0
A25: =Codes1!A11 -> 8 | B25: =Codes1!C11 -> Heeft u inzicht in het aantal schakels tussen uw onderneming en de primaire producent (de boer) van uw grondstoffen? | D25: Maak uw keuze: | E25: 5 | F25: =VLOOKUP(D25,Codes1!$E$89:$H$93,4,FALSE) -> 0
A27: =Codes1!A12 -> 9 | B27: =Codes1!C12 -> Heeft u directe leveranciers in hoog risico landen (zie lijst DAC?)? | D27: Maak uw keuze:
A29: =Codes1!A13 -> 10 | B29: =Codes1!C13 -> Heeft u onderzocht in hoeverre leveranciers voldoen aan internationale richtlijnen voor mensenrechten, arbeidsrecht en milieu? | D29: Maak uw keuze: | E29: 5 | F29: =VLOOKUP(D29,Codes1!$E$89:$H$93,4,FALSE) -> 0
A31: =Codes1!A14 -> 11 | B31: =Codes1!C14 -> Bent u bekend met het land van oorsprong van al uw grondstoffen, inclusief van de ingredienten in samengestelde grondstoffen? | D31: Maak uw keuze: | E31: 5 | F31: =VLOOKUP(D31,Codes1!$E$89:$H$93,4,FALSE) -> 0
A33: =Codes1!A15 -> 12 | B33: =Codes1!C15 -> Welk van de volgende grondstoffen zijn aanwezig in uw producten (rechtstreeks dan wel als onderdeel van samengestelde grondstoffen)? | C33: Grondstoffen | D33: Geef hieronder uw antwoord
C34: =Codes1!P65 -> Palmolie | D34: Maak uw keuze:
C35: =Codes1!P66 -> Soja | D35: Maak uw keuze:
C36: =Codes1!P67 -> Cacao | D36: Maak uw keuze:
C37: =Codes1!P68 -> Vanille | D37: Maak uw keuze:
C38: =Codes1!P69 -> Rijst | D38: Maak uw keuze:
C39: =Codes1!P70 -> Cashewnoten | D39: Maak uw keuze:
C40: =Codes1!P71 -> Kokos (incl. kokosolie) | D40: Maak uw keuze:
C41: =Codes1!P72 -> Rietsuiker | D41: Maak uw keuze:
C42: =Codes1!P73 -> Garnalen | D42: Maak uw keuze:
C43: =Codes1!P74 -> Tonijn | D43: Maak uw keuze:
C44: =Codes1!P75 -> Citrusvruchten | D44: Maak uw keuze:
C45: =Codes1!P76 -> Koffie | D45: Maak uw keuze:
... C51: =Codes1!P82 -> Overig, namelijk | D51: …
A53: =Codes1!A16 -> 13 | B53: =Codes1!C16 -> Bent u bekend met de IMVO risico's van deze grondstoffen terug in de keten (voorbij uw eerste leveranciers)? | D53: Maak uw keuze: | E53: 5 | F53: =VLOOKUP(D53,Codes1!$E$89:$H$93,4,FALSE) -> 0
A55: =Codes1!A17 -> 14 | B55: =Codes1!C17 -> Welke maatregelen treft u om deze risico's te verminderen/ weg te nemen? | C55: Maatregelen | D55: =D33 -> Geef hieronder uw antwoord
C56: =Codes1!R65 -> Inkoop van hetzelfde ingredient met een MVO certificaat (bijv. RSPO palmolie, UTZ cacao, Beter Leven Kip) | D56: Maak uw keuze: | E56: =Codes1!$G$90 -> 1 | F56: =VLOOKUP(D56,Codes1!$E$89:$H$93,3,FALSE) -> 0
C57: =Codes1!R66 -> Samen met leverancier doelen stellen voor stapsgewijze verduurzaming van de bestaande grondstof | D57: Maak uw keuze: | E57: =Codes1!$G$90 -> 1 | F57: =VLOOKUP(D57,Codes1!$E$89:$H$93,3,FALSE) -> 0
C58: =Codes1!R67 -> Mijn leverancier is aangesloten bij grondstofspecifiek MVO keteninitiatief (bijv. Sustainable Spices Initiative) | D58: Maak uw keuze: | E58: =Codes1!$F$90 -> 3 | F58: =VLOOKUP(D58,Codes1!$E$89:$H$93,2,FALSE) -> 0
C59: =Codes1!R68 -> Wij zijn zelf aangesloten bij keteninitiatief voor verduurzaming van deze specifieke grondstofketen. | D59: Maak uw keuze: | E59: 5 | F59: =VLOOKUP(D59,Codes1!$E$89:$H$93,4,FALSE) -> 0
C60: =Codes1!R69 -> Wij hebben voor deze grondstof nog geen acties ondernomen , maar zijn dit het komend jaar van plan. | D60: Maak uw keuze: | E60: 5 | F60: =VLOOKUP(D60,Codes1!$E$89:$H$93,4,FALSE) -> 0
C61: =Codes1!R70 -> Wij hebben voor deze grondstof nog geen acties ondernomen , en zijn dit in het komend jaar ook niet van plan. | D61: Maak uw keuze: | E61: 5 | F61: =VLOOKUP(D61,Codes1!$E$89:$H$93,4,FALSE) -> 0
C62: =Codes1!R71 -> Na pogingen met de leverancier om de risicos terug te dringen en non- compliance van deze, is besloten het ingredient te verwijderen uit de receptuur (bijv. palmolie vervangen door raapzaadolie). | D62: Maak uw keuze: | E62: 0
C63: =Codes1!R72 -> Na pogingen met de leverancier om de risicos terug te dringen en non compliance door deze is gekozen om deze grondstof in te kopen uit een ander gebied (bijv. soja uit EU i.p.v. Brazilie). | D63: Maak uw keuze: | E63: 0
C64: =Codes1!R73 -> Anders, namelijk
A66: =Codes1!A18 -> 15 | B66: =Codes1!C18 -> Op welke manier heeft u het inzicht in de IMVO-risico's van uw grondstoffen verkregen? (meerdere antwoorden mogelijk) | C66: Manieren verkrijgen inzicht | D66: =D55 -> Geef hieronder uw antwoord
C67: =Codes1!S65 -> Door eigen onderzoek (openbare bronnen, media, websites, third party audits, NGO's, vakbonden etc.) | D67: Maak uw keuze: | E67: =Codes1!$F$90 -> 3 | F67: =VLOOKUP(D67,Codes1!$E$89:$H$93,2,FALSE) -> 0
C68: =Codes1!S66 -> Door informatie van leveranciers | D68: Maak uw keuze: | E68: =Codes1!$F$90 -> 3 | F68: =VLOOKUP(D68,Codes1!$E$89:$H$93,2,FALSE) -> 0
C69: =Codes1!S67 -> Door bezoek aan de boeren en producenten terug in de keten. | D69: Maak uw keuze: | E69: =Codes1!$F$90 -> 3 | F69: =VLOOKUP(D69,Codes1!$E$89:$H$93,2,FALSE) -> 0
C70: =Codes1!S68 -> Door informatie vanuit mijn klanten | D70: Maak uw keuze: | E70: =Codes1!$F$90 -> 3 | F70: =VLOOKUP(D70,Codes1!$E$89:$H$93,2,FALSE) -> 0
C71: =Codes1!S69 -> Door informatie vanuit mijn branchevereniging | D71: Maak uw keuze: | E71: =Codes1!$F$90 -> 3 | F71: =VLOOKUP(D71,Codes1!$E$89:$H$93,2,FALSE) -> 0
C72: =Codes1!S70 -> Door gesprekken met NGO's en/of vakbonden | D72: Maak uw keuze: | E72: =Codes1!$F$90 -> 3 | F72: =VLOOKUP(D72,Codes1!$E$89:$H$93,2,FALSE) -> 0
C73: =Codes1!S71 -> Door gebruik van de MVO riscochecker (https://www.mvorisicochecker.nl/nl) | D73: Maak uw keuze: | E73: =Codes1!$F$90 -> 3 | F73: =VLOOKUP(D73,Codes1!$E$89:$H$93,2,FALSE) -> 0
C74: =Codes1!S72 -> Dit inzicht hebben wij nog onvoldoende. | D74: Maak uw keuze: | E74: 0
C75: =Codes1!S73 -> Anders, namelijk..
A77: =Codes1!A19 -> 16 | B77: =Codes1!C19 -> Heeft u inzicht in de IMVO-ketenrisico's van uw (overige) top 5 volume grondstoffen, inclusief de risico's van afzonderlijke ingredienten bij samengestelde grondstoffen? | D77: Maak uw keuze: | E77: 5 | F77: =VLOOKUP(D77,Codes1!$E$89:$H$93,4,FALSE) -> 0
A79: =Codes1!A20 -> 17 | B79: =Codes1!C20 -> Heeft u inzicht in de IMVO-ketenrisico's van overige kenmerkende ingredienten in uw producten. | D79: Maak uw keuze: | E79: 5 | F79: =VLOOKUP(D79,Codes1!$E$89:$H$93,4,FALSE) -> 0
A81: =Codes1!A21 -> 18 | B81: =Codes1!C21 -> Welk type IMVO-risico's heeft u onderzocht in deze grondstofketen(s) - Meerdere antwoorden mogelijk | C81: IMVO-risico's | D81: =D66 -> Geef hieronder uw antwoord
C82: =Codes1!V65 -> Discriminatie en gender | D82: Maak uw keuze: | E82: =Codes1!$G$90 -> 1 | F82: =VLOOKUP(D82,Codes1!$E$89:$H$93,3,FALSE) -> 0
C83: =Codes1!V66 -> Kinderarbeid en kinderrechten | D83: Maak uw keuze: | E83: =Codes1!$G$90 -> 1 | F83: =VLOOKUP(D83,Codes1!$E$89:$H$93,3,FALSE) -> 0
C84: =Codes1!V67 -> Gedwongen arbeid | D84: Maak uw keuze: | E84: =Codes1!$G$90 -> 1 | F84: =VLOOKUP(D84,Codes1!$E$89:$H$93,3,FALSE) -> 0
C85: =Codes1!V68 -> Leefbaar loon en leefbaar inkomen | D85: Maak uw keuze: | E85: =Codes1!$G$90 -> 1 | F85: =VLOOKUP(D85,Codes1!$E$89:$H$93,3,FALSE) -> 0
C86: =Codes1!V69 -> Beperking van vakbondsvrijheid en -organisatie | D86: Maak uw keuze: | E86: =Codes1!$G$90 -> 1 | F86: =VLOOKUP(D86,Codes1!$E$89:$H$93,3,FALSE) -> 0
C87: =Codes1!V70 -> Veiligheid en gezondheid | D87: Maak uw keuze: | E87: =Codes1!$G$90 -> 1 | F87: =VLOOKUP(D87,Codes1!$E$89:$H$93,3,FALSE) -> 0
C88: =Codes1!V71 -> Voedselzekerheid en voedselkwaliteit | D88: Maak uw keuze: | E88: =Codes1!$G$90 -> 1 | F88: =VLOOKUP(D88,Codes1!$E$89:$H$93,3,FALSE) -> 0
C89: =Codes1!V72 -> Landrechten en toegang tot natuurlijke hulpbronnen | D89: Maak uw keuze: | E89: =Codes1!$G$90 -> 1 | F89: =VLOOKUP(D89,Codes1!$E$89:$H$93,3,FALSE) -> 0
C90: =Codes1!V73 -> Watervervuiling en gebruik chemicaliën, water en energie | D90: Maak uw keuze: | E90: =Codes1!$G$90 -> 1 | F90: =VLOOKUP(D90,Codes1!$E$89:$H$93,3,FALSE) -> 0
C91: =Codes1!V74 -> Dierenwelzijn | D91: Maak uw keuze: | E91: =Codes1!$G$90 -> 1 | F91: =VLOOKUP(D91,Codes1!$E$89:$H$93,3,FALSE) -> 0
C92: =Codes1!V75 -> Anders, namelijk
A94: =Codes1!A22 -> 19 | B94: =Codes1!C22 -> Op welke manier heeft u bepaald welke grondstoffen en risico's prioriteit hebben voor actie vanuit uw bedrijf? (meerdere antwoorden mogelijk) | C94: Wijze van bepalen | D94: =D81 -> Geef hieronder uw antwoord
C95: =Codes1!W65 -> Kwalitatieve inschatting van ernst (mogelijk impact gevolgen op mens en/of milieu) en waarschijnlijkheid (kans dat het zich voordoet) | D95: Maak uw keuze: | E95: =Codes1!$F$90 -> 3 | F95: =VLOOKUP(D95,Codes1!$E$89:$H$93,2,FALSE) -> 0
C96: =Codes1!W66 -> Op basis van prioriteiten binnen het eigen MVO beleid | D96: Maak uw keuze: | E96: =Codes1!$F$90 -> 3 | F96: =VLOOKUP(D96,Codes1!$E$89:$H$93,2,FALSE) -> 0
C97: =Codes1!W67 -> Op basis van prioriteiten van onze klanten | D97: Maak uw keuze: | E97: =Codes1!$F$90 -> 3 | F97: =VLOOKUP(D97,Codes1!$E$89:$H$93,2,FALSE) -> 0
C98: =Codes1!W68 -> In overleg met de betreffende leveranciers | D98: Maak uw keuze: | E98: =Codes1!$F$90 -> 3 | F98: =VLOOKUP(D98,Codes1!$E$89:$H$93,2,FALSE) -> 0
C99: =Codes1!W69 -> Op basis van het aantal risico's in de MVO risico-checker | D99: Maak uw keuze: | E99: =Codes1!$F$90 -> 3 | F99: =VLOOKUP(D99,Codes1!$E$89:$H$93,2,FALSE) -> 0
C100: =Codes1!W70 -> Door koppeling met de bestaande inkoopstrategie (Kraljic: hefboom, strategisch, knelpunt, routine) | D100: Maak uw keuze: | E100: =Codes1!$F$90 -> 3 | F100: =VLOOKUP(D100,Codes1!$E$89:$H$93,2,FALSE) -> 0
C101: =Codes1!W71 -> Op basis van prioriteiten vanuit de brancheorganisatie(s) | D101: Maak uw keuze: | E101: =Codes1!$F$90 -> 3 | F101: =VLOOKUP(D101,Codes1!$E$89:$H$93,2,FALSE) -> 0
C102: =Codes1!W72 -> Dit hebben wij nog niet gedaan, maar zijn dit wel van plan in het komende jaar | D102: Maak uw keuze: | E102: 0
C103: =Codes1!W73 -> Dit hebben wij niet gedaan, en zijn dit ook niet van plan in het komende jaar. | D103: Maak uw keuze: | E103: 0
C104: =Codes1!W74 -> Dit hebben wij nog niet gedaan omdat we eerst willen bekijken hoe we dit het beste kunnen doen en daar kunnen wij wel wat hulpmiddelen voor gebruiken. | D104: Maak uw keuze: | E104: 0
C105: =Codes1!W75 -> Anders, namelijk
A107: =Codes1!A23 -> 20 | B107: =Codes1!C23 -> Worden bij nieuwe inkoopbeslissingen eerst de mogelijke IMVO-risico's onderzocht? | D107: Maak uw keuze: | E107: 5 | F107: =VLOOKUP(D107,Codes1!$E$89:$H$93,4,FALSE) -> 0
A109: =Codes1!A24 -> 21 | B109: =Codes1!C24 -> Heeft uw onderneming intensieve samenwerkingsprogramma’s met het doel gezamenlijk duurzaamheid in de keten te verbeteren met toeleveranciers? | D109: Maak uw keuze: | E109: 5 | F109: =VLOOKUP(D109,Codes1!$E$89:$H$93,4,FALSE) -> 0
A111: =Codes1!A25 -> 22 | B111: =Codes1!C25 -> Op welke wijze borgt u het up-to-date blijven van uw IMVO-risico-inventarisatie? (meerdere antwoorden mogelijk) | C111: Wijze van borging | D111: =D94 -> Geef hieronder uw antwoord
C112: =Codes1!Z65 -> Een evaluatie hiervan is onderdeel van de GIRA voor ons kwaliteitsmanagementsysteem | D112: Maak uw keuze: | E112: =Codes1!$F$90 -> 3 | F112: =VLOOKUP(D112,Codes1!$E$89:$H$93,2,FALSE) -> 0
C113: =Codes1!Z66 -> Een evaluatie hiervan is onderdeel van de jaarlijkse evaluatie van ons inkoopbeleid | D113: Maak uw keuze: | E113: =Codes1!$F$90 -> 3 | F113: =VLOOKUP(D113,Codes1!$E$89:$H$93,2,FALSE) -> 0
C114: =Codes1!Z67 -> Wij evalueren dit als hier aanleiding toe is obv vragen van klanten, klachten of actualiteiten. | D114: Maak uw keuze: | E114: =Codes1!$F$90 -> 3 | F114: =VLOOKUP(D114,Codes1!$E$89:$H$93,2,FALSE) -> 0
C115: =Codes1!Z68 -> Wij evalueren dit op basis van periodiek overleg met belanghebbenden. | D115: Maak uw keuze: | E115: =Codes1!$F$90 -> 3 | F115: =VLOOKUP(D115,Codes1!$E$89:$H$93,2,FALSE) -> 0
C116: =Codes1!Z69 -> Dit hebben wij nog niet geborgd, maar zijn dit wel van plan in het komende jaar . | D116: Maak uw keuze: | E116: 0
C117: =Codes1!Z70 -> Dit hebben wij niet geborgd, en zijn dit ook niet van plan in het komende jaar. | D117: Maak uw keuze: | E117: 0
C118: =Codes1!Z71 -> Dit hebben wij nog niet geborgd omdat we eerst willen bekijken hoe we dit het beste kunnen doen en daar kunnen wij wel wat hulpmiddelen voor gebruiken. | D118: Maak uw keuze: | E118: 0
A120: =Codes1!A26 -> 23 | B120: =Codes1!C26 -> Wat zijn de belangrijkste omstandigheden die u belemmeren IMVO-maatregelen in de handelsketen door te voeren? (meerdere antwoorden mogelijk) | C120: Mogelijke belemmeringen | D120: =D111 -> Geef hieronder uw antwoord
C121: =Codes1!AA65 -> Mijn leveranciers verstrekken geen/ onvoldoende informatie om een goede risico-inschatting te kunnen maken. | D121: Maak uw keuze:
C122: =Codes1!AA66 -> Mijn leveranciers zijn te groot, ik heb te weinig invloed | D122: Maak uw keuze:
C123: =Codes1!AA67 -> Mijn leverancier weigert mee te werken aan onze IMVO-wensen/ eisen | D123: Maak uw keuze:
C124: =Codes1!AA68 -> Problemen vinden verder weg in de keten plaats (niet bij eerste lijns leveranciers) , ik heb daar geen invloed op. | D124: Maak uw keuze:
C125: =Codes1!AA69 -> Deelnemen aan certificering en/of keteninitiatieven is te duur | D125: Maak uw keuze:
C126: =Codes1!AA70 -> Mijn handelsketen is te complex, ik koop te veel verschillende producten/ grondstoffen in | D126: Maak uw keuze:
C127: =Codes1!AA71 -> Waarbrogen van grondstofzekerheid/ supply contingencies (we zijn te afhankelijk van bepaalde grondstoffentroom om eisen te kunnen stellen) | D127: Maak uw keuze:
C128: =Codes1!AA72 -> Onze klanten zijn niet bereid te betalen voor de extra inspanningen t.a.v. MVI | D128: Maak uw keuze:
...

Sheet Codes1
A1: Codes van MKB-SAT. NIET AANPASSEN!
A2: VRAGEN:
A3: # | C3: VRAAG | D3: Antwoorden
A4: 1 | C4: Tot welke sector (organisatie) behoort uw bedrijf?
A5: 2 | C5: Welk type bedrijf betreft het?
A6: 3 | C6: Wat is uw functie?
A7: 4 | C7: Heeft uw onderneming een actueel overzicht van de producten die u produceert en de daarin aanwezige grondstoffen?
A8: 5 | C8: Heeft uw onderneming een actueel overzicht van de eerstelijns productielocaties en subcontractors, inclusief naam en adresgegevens?
A9: 6 | C9: Houdt u een periodieke evaluatie van de risico's en gevaren van uw grondstoffen en de borging hiervan bij uw leveranciers (gevarenidentificatie en risico-analyse: GIRA)?
A10: 7 | C10: Welk type risico neemt u mee in deze GIRA?
A11: 8 | C11: Heeft u inzicht in het aantal schakels tussen uw onderneming en de primaire producent (de boer) van uw grondstoffen?
A12: 9 | C12: Heeft u directe leveranciers in hoog risico landen (zie lijst DAC?)?
A13: 10 | B13: bij ja 9 | C13: Heeft u onderzocht in hoeverre leveranciers voldoen aan internationale richtlijnen voor mensenrechten, arbeidsrecht en milieu?
A14: 11 | C14: Bent u bekend met het land van oorsprong van al uw grondstoffen, inclusief van de ingredienten in samengestelde grondstoffen?
A15: 12 | C15: Welk van de volgende grondstoffen zijn aanwezig in uw producten (rechtstreeks dan wel als onderdeel van samengestelde grondstoffen)?
A16: 13 | C16: Bent u bekend met de IMVO risico's van deze grondstoffen terug in de keten (voorbij uw eerste leveranciers)?
A17: 14 | C17: Welke maatregelen treft u om deze risico's te verminderen/ weg te nemen?
A18: 15 | C18: Op welke manier heeft u het inzicht in de IMVO-risico's van uw grondstoffen verkregen? (meerdere antwoorden mogelijk)
A19: 16 | C19: Heeft u inzicht in de IMVO-ketenrisico's van uw (overige) top 5 volume grondstoffen, inclusief de risico's van afzonderlijke ingredienten bij samengestelde grondstoffen?
A20: 17 | C20: Heeft u inzicht in de IMVO-ketenrisico's van overige kenmerkende ingredienten in uw producten.
A21: 18 | B21: bij ja 16/17 | C21: Welk type IMVO-risico's heeft u onderzocht in deze grondstofketen(s) - Meerdere antwoorden mogelijk
A22: 19 | C22: Op welke manier heeft u bepaald welke grondstoffen en risico's prioriteit hebben voor actie vanuit uw bedrijf? (meerdere antwoorden mogelijk)
A23: 20 | C23: Worden bij nieuwe inkoopbeslissingen eerst de mogelijke IMVO-risico's onderzocht?
A24: 21 | C24: Heeft uw onderneming intensieve samenwerkingsprogramma’s met het doel gezamenlijk duurzaamheid in de keten te verbeteren met toeleveranciers?
A25: 22 | C25: Op welke wijze borgt u het up-to-date blijven van uw IMVO-risico-inventarisatie? (meerdere antwoorden mogelijk)
A26: 23 | C26: Wat zijn de belangrijkste omstandigheden die u belemmeren IMVO-maatregelen in de handelsketen door te voeren? (meerdere antwoorden mogelijk)
A27: 24 | C27: Zijn er acties benoemd in een plan van aanpak en worden/zijn deze opgepakt en afgehandeld?
A28: 25 | C28: Bent u transparant over uw IMVO-doelen en de voortgang op het behalen hiervan? (meerdere antwoorden mogelijk)
A29: 26 | C29: Bent u hierbij transparant over knelpunten en uitdagingen die u tegen komt en over het evt. niet behalen van eerder gestelde doelen (leg uit waarom indien niet/deels)?
A30: 27 | C30: Overlegt u over MVO/ MVI met belanghebbenden in de keten?
A31: 28 | C31: Zo ja, met welke belanghebbenden?
A32: 29 | C32: Zo ja, over welke onderwerpen spreekt u dan? (meerdere antwoorden mogelijk)
A33: 30 | C33: Op welke wijze vindt monitoring & evaluatie van uw toeleveranciers en producenten plaats ? (meerdere antwoorden mogelijk)
... A51: 48 | C51: Heeft u binnen de EXTERNE klachtenregeling de volgende zaken geborgd? (meerdere antwoorden mogelijk)
D52: Vragen
D53: ALGEMEEN | E53: =$A4 -> 1 | F53: =$A5 -> 2 | G53: =$A6 -> 3 | H53: =$A7 -> 4 | I53: =$A8 -> 5 | J53: =$A9 -> 6 | K53: =$A10 -> 7 | L53: =$A11 -> 8 | M53: =$A12 -> 9 | N53: =$A13 -> 10 | O53: =$A14 -> 11 | P53: =$A15 -> 12 | Q53: =$A16 -> 13 | R53: =$A17 -> 14 | S53: =$A18 -> 15 | T53: =$A19 -> 16 | U53: =$A20 -> 17 | V53: =$A21 -> 18 | W53: =$A22 -> 19 | X53: =$A23 -> 20 | Y53: =$A24 -> 21 | Z53: =$A25 -> 22 | AA53: =$A26 -> 23 | AB53: =$A27 -> 24 | AC53: =$A28 -> 25 | AD53: =$A29 -> 26 | AE53: =$A30 -> 27 | AF53: =$A31 -> 28 | AG53: =$A32 -> 29 | AH53: =$A33 -> 30 | AI53: =$A34 -> 31 | AJ53: =$A35 -> 32 | AK53: =$A36 -> 33 | AL53: =$A37 -> 34 | AM53: =$A38 -> 35 | AN53: =$A39 -> 36 | AO53: =$A40 -> 37 | AP53: =$A41 -> 38 | AQ53: =$A42 -> 39 | AR53: =$A43 -> 40 | AS53: =$A44 -> 41 | AT53: =$A45 -> 42 | AU53: =$A46 -> 43 | AV53: =$A47 -> 44 | AW53: =$A48 -> 45 | AX53: =$A49 -> 46 | AY53: =$A50 -> 47 | AZ53: =$A51 -> 48
D54: =E89 -> Maak uw keuze:
D55: =E90 -> Ja | H55: Zorg dat dit overzicht bijgewerkt blijft en toegankelijk is.
D56: =E91 -> Nee | H56: Inventariseer welke producten de onderneming produceert en geef aan welke grondstoffen u hierbij gebruikt.
D57: =E92 -> Deels | H57: Noteer welke informatie u nodig heeft, welke u daadwerklijk in beeld hebt en welke informatie nog nodig is
D58: =E93 -> Weet ik niet | H58: Vraag dit na bij een collega of bij een leidinggevende.
D59: LET OP: Wat Nu? = nr. vraag + 1
E64: Maak uw keuze: | F64: Maak uw keuze: | G64: Maak uw keuze: | H64: Maak uw keuze: | I64: Maak uw keuze: | J64: Maak uw keuze: | K64: Maak uw keuze: | L64: Maak uw keuze: | M64: Maak uw keuze: | N64: Maak uw keuze: | O64: Maak uw keuze: | P64: Maak uw keuze: | Q64: Maak uw keuze: | R64: Maak uw keuze: | S64: Maak uw keuze: | T64: Maak uw keuze: | U64: Maak uw keuze: | V64: Maak uw keuze: | W64: Maak uw keuze: | X64: Maak uw keuze: | Y64: Maak uw keuze: | Z64: Maak uw keuze: | AA64: Maak uw keuze: | AB64: Maak uw keuze: | AC64: Maak uw keuze: | AD64: Maak uw keuze: | AE64: Maak uw keuze: | AF64: Maak uw keuze: | AG64: Maak uw keuze: | AH64: Maak uw keuze: | AI64: Maak uw keuze: | AJ64: Maak uw keuze: | AK64: Maak uw keuze: | AL64: Maak uw keuze: | AM64: Maak uw keuze: | AN64: Maak uw keuze: | AO64: Maak uw keuze: | AP64: Maak uw keuze: | AQ64: Maak uw keuze: | AR64: Maak uw keuze: | AS64: Maak uw keuze: | AT64: Maak uw keuze: | AU64: Maak uw keuze: | AV64: Maak uw keuze: | AW64: Maak uw keuze: | AX64: Maak uw keuze: | AY64: Maak uw keuze: | AZ64: Maak uw keuze:
E65: FNLI | F65: Kleinbedrijf | G65: Inkoper | H65: Ja | I65: Ja | J65: Ja | K65: Voedselveiligheid | L65: Ja | M65: Ja | N65: Ja | O65: Ja | P65: Palmolie | Q65: Ja | R65: Inkoop van hetzelfde ingredient met een MVO certificaat (bijv. RSPO palmolie, UTZ cacao, Beter Leven Kip) | S65: Door eigen onderzoek (openbare bronnen, media, websites, third party audits, NGO's, vakbonden etc.) | T65: Ja | U65: Ja | V65: Discriminatie en gender | W65: Kwalitatieve inschatting van ernst (mogelijk impact gevolgen op mens en/of milieu) en waarschijnlijkheid (kans dat het zich voordoet) | X65: Ja | Y65: Ja | Z65: Een evaluatie hiervan is onderdeel van de GIRA voor ons kwaliteitsmanagementsysteem | AA65: Mijn leveranciers verstrekken geen/ onvoldoende informatie om een goede risico-inschatting te kunnen maken. | AB65: Ja | AC65: Wij communiceren hier actief over met klanten | AD65: Ja | AE65: Ja | AF65: Klanten | AG65: Rechten tegen discriminatie en voor gendergelijkheid | AH65: Via de periodieke GIRA die onderdeel is van ons kwaliteitsmanagementsysteem (in. 1x/jaar) | AI65: Ja | AJ65: Rechten tegen discriminatie en voor gendergelijkheid | AK65: Ingaan gezamenlijk verbetertraject | AL65: Ja | AM65: Ja | AN65: Ja | AO65: Ja | AP65: Ja | AQ65: Ja | AR65: Ja | AS65: Ja | AT65: Ja | AU65: Staat op zichzelf | AV65: Ja | AW65: Ja | AX65: Ja | AY65: Het systeem is bekend bij alle medewerkers | AZ65: Het systeem is bekend bij alle leveranciers
E66: Specerijen (KNSV) | F66: Middenbedrijf | G66: Supply chain manager | H66: Nee | I66: Nee | J66: Nee | K66: Voedselfraude | L66: Nee | M66: Nee | N66: Nee | O66: Nee | P66: Soja | Q66: Nee | R66: Samen met leverancier doelen stellen voor stapsgewijze verduurzaming van de bestaande grondstof | S66: Door informatie van leveranciers | T66: Nee | U66: Nee | V66: Kinderarbeid en kinderrechten | W66: Op basis van prioriteiten binnen het eigen MVO beleid | X66: Nee | Y66: Nee | Z66: Een evaluatie hiervan is onderdeel van de jaarlijkse evaluatie van ons inkoopbeleid | AA66: Mijn leveranciers zijn te groot, ik heb te weinig invloed | AB66: Nee | AC66: Wij communiceren hier actief over met leveranciers | AD66: Nee | AE66: Nee | AF66: Leveranciers | AG66: Preventie van Kinderarbeid en kinderrechten | AH66: Laten invullen van vragenlijsten/ self-assesments | AI66: Nee | AJ66: Preventie van Kinderarbeid en kinderrechten | AK66: Leverancier krijgt eenmaal mogelijkheid tot verbeteren beleid | AL66: Nee | AM66: Nee | AN66: Nee | AO66: Nee | AP66: Nee | AQ66: Nee | AR66: Nee | AS66: Nee | AT66: Nee | AU66: Onderdeel van breder MVO beleid | AV66: Nee | AW66: Nee | AX66: Nee | AY66: Het systeem is gemakkelijk toegankelijk voor alle medewerkers | AZ66: Het systeem is gemakkelijk toegankelijk voor alle leveranciers
E67: Aardappelproducten (VAVI) | F67: Grootbedrijf | G67: Kkwaliteitsmanager | H67: Deels | I67: Deels | J67: Deels | K67: Arbeidsrechten | L67: Deels | M67: Deels | N67: Deels | O67: Deels | P67: Cacao | Q67: Deels | R67: Mijn leverancier is aangesloten bij grondstofspecifiek MVO keteninitiatief (bijv. Sustainable Spices Initiative) | S67: Door bezoek aan de boeren en producenten terug in de keten. | T67: Deels | U67: Deels | V67: Gedwongen arbeid | W67: Op basis van prioriteiten van onze klanten | X67: Deels | Y67: Deels | Z67: Wij evalueren dit als hier aanleiding toe is obv vragen van klanten, klachten of actualiteiten. | AA67: Mijn leverancier weigert mee te werken aan onze IMVO-wensen/ eisen | AB67: Deels | AC67: Wij publiceren de voortgang online | AD67: Deels | AE67: Deels | AF67: Ngo's in Nederland | AG67: Preventie van Gedwongen arbeid | AH67: Opvragen van certificaten van managementsystemen of keurmerken | AI67: Deels | AJ67: Preventie van Gedwongen arbeid | AK67: Het type actie verschilt afhankelijk van de ernst van de overtreding. | AL67: Deels | AM67: Deels | AN67: Deels | AO67: Deels | AP67: Deels | AQ67: Deels | AR67: Deels | AS67: Deels | AT67: Deels | AU67: Weet ik niet | AV67: Deels | AW67: Deels | AX67: Deels | AY67: Het systeem wordt vertrouwd door de medewerkers | AZ67: Het systeem wordt vertrouwd door de leveranciers
E68: Bakkerij & Zoetwaren (VBZ) | F68: Multinational | G68: QESH manager | H68: Weet ik niet | I68: Weet ik niet | J68: Weet ik niet | K68: Mensenrechten | L68: Weet ik niet | M68: Weet ik niet | N68: Weet ik niet | O68: Weet ik niet | P68: Vanille | Q68: Weet ik niet | R68: Wij zijn zelf aangesloten bij keteninitiatief voor verduurzaming van deze specifieke grondstofketen. | S68: Door informatie vanuit mijn klanten | T68: Weet ik niet | U68: Weet ik niet | V68: Leefbaar loon en leefbaar inkomen | W68: In overleg met de betreffende leveranciers | X68: Weet ik niet | Y68: Weet ik niet | Z68: Wij evalueren dit op basis van periodiek overleg met belanghebbenden. | AA68: Problemen vinden verder weg in de keten plaats (niet bij eerste lijns leveranciers) , ik heb daar geen invloed op. | AB68: Weet ik niet | AC68: Dit is onderdeel van ons MVO verslag. | AD68: Weet ik niet | AE68: Weet ik niet | AF68: Ngo's in productielanden | AG68: Leefbaar loon en leefbaar inkomen | AH68: Laten ondertekenen van een gedragscode | AI68: Weet ik niet | AJ68: Leefbaar loon en leefbaar inkomen | AK68: Actief advies geven om duurzaamheid te verbeteren in beleid. | AL68: Weet ik niet | AM68: Weet ik niet | AN68: Weet ik niet | AO68: Weet ik niet | AP68: Weet ik niet | AQ68: Weet ik niet | AR68: Weet ik niet | AS68: Weet ik niet | AT68: Weet ik niet | AV68: Weet ik niet | AW68: Weet ik niet | AX68: Weet ik niet | AY68: Het systeem bevat ingebouwde periodieke voorlichting om medewerkers bekend te maken/ houden met het klachtensysteem en de rechten, normen en waarden die het moet borgen. | AZ68: Het systeem bevat ingebouwde periodieke voorlichting om medewerkers bekend te maken/ houden met het klachtensysteem en de rechten, normen en waarden die het moet borgen.
E69: Bakkerij (NVB) | G69: MVO-manager | K69: Milieu-impact | P69: Rijst | R69: Wij hebben voor deze grondstof nog geen acties ondernomen , maar zijn dit het komend jaar van plan. | S69: Door informatie vanuit mijn branchevereniging | V69: Beperking van vakbondsvrijheid en -organisatie | W69: Op basis van het aantal risico's in de MVO risico-checker | Z69: Dit hebben wij nog niet geborgd, maar zijn dit wel van plan in het komende jaar . | AA69: Deelnemen aan certificering en/of keteninitiatieven is te duur | AC69: Dit is onderdeel van ons reguliere jaarverslag. | AF69: Werknemers(organsaties) in Nederland | AG69: Waarborg van het recht op van vakvereniging | AH69: Bedrijfsbezoeken | AJ69: Waarborg van het recht op van vakvereniging | AK69: Wij ondernemen hier nog geen actie op maar zijn dit in het komend jaar wel van plan. | AY69: Het systeem beschermt de melder (klokkenluider) | AZ69: Het systeem beschermt de melder (klokkenluider)
E70: Bakkerij grondstoffen (NEBAFA) | G70: Directeur/ eigenaar | P70: Cashewnoten | R70: Wij hebben voor deze grondstof nog geen acties ondernomen , en zijn dit in het komend jaar ook niet van plan. | S70: Door gesprekken met NGO's en/of vakbonden | V70: Veiligheid en gezondheid | W70: Door koppeling met de bestaande inkoopstrategie (Kraljic: hefboom, strategisch, knelpunt, routine) | Z70: Dit hebben wij niet geborgd, en zijn dit ook niet van plan in het komende jaar. | AA70: Mijn handelsketen is te complex, ik koop te veel verschillende producten/ grondstoffen in | AC70: Wij delen dit met maatschappelijke organisaties wanneer zij hierom vragen | AF70: Werknemers(organisaties) in productielanden | AG70: recht op collectieve onderhandelingen door onafhankelijke vakbonden | AH70: Onafhankelijke audits, door een derde partij | AJ70: recht op collectieve onderhandelingen door onafhankelijke vakbonden | AK70: Wij hanteen geen sancties en dit zijn wij in het komend jaar ook niet van plan | AY70: Het systeem bevat een mogelijkheid tot het anoniem melden van schendingen | AZ70: Het systeem bevat een mogelijkheid tot het anoniem melden van schendingen
E71: Brouwerij (Nederlandse Brouwers) | G71: Administratief medewerker | P71: Kokos (incl. kokosolie) | R71: Na pogingen met de leverancier om de risicos terug te dringen en non- compliance van deze, is besloten het ingredient te verwijderen uit de receptuur (bijv. palmolie vervangen door raapzaadolie). | S71: Door gebruik van de MVO riscochecker (https://www.mvorisicochecker.nl/nl) | V71: Voedselzekerheid en voedselkwaliteit | W71: Op basis van prioriteiten vanuit de brancheorganisatie(s) | Z71: Dit hebben wij nog niet geborgd omdat we eerst willen bekijken hoe we dit het beste kunnen doen en daar kunnen wij wel wat hulpmiddelen voor gebruiken. | AA71: Waarbrogen van grondstofzekerheid/ supply contingencies (we zijn te afhankelijk van bepaalde grondstoffentroom om eisen te kunnen stellen) | AC71: Wij geven deze inzage aan klanten wanneer zij hierom vragen | AF71: Vakbonden in Nederland | AG71: Veiligheid en gezondheid van medewerkers | AH71: Audits uitgevoerd door onze eigen onderneming | AJ71: Veiligheid en gezondheid van medewerkers | AK71: Directe beeindiging contract | AU71: 43 | AY71: Het systeem heeft duidelijke en transparante prodcedures die voorspelbaar zijn | AZ71: Het systeem heeft duidelijke en transparante prodcedures die voorspelbaar zijn
E72: Culinaire Producten (Culinaria NL) | G72: Anders, namelijk | P72: Rietsuiker | R72: Na pogingen met de leverancier om de risicos terug te dringen en non compliance door deze is gekozen om deze grondstof in te kopen uit een ander gebied (bijv. soja uit EU i.p.v. Brazilie). | S72: Dit inzicht hebben wij nog onvoldoende. | V72: Landrechten en toegang tot natuurlijke hulpbronnen | W72: Dit hebben wij nog niet gedaan, maar zijn dit wel van plan in het komende jaar | AA72: Onze klanten zijn niet bereid te betalen voor de extra inspanningen t.a.v. MVI | AC72: Wij delen de voortgang intern via ons personeelsblad en/of via ons intranet | AF72: Vakbonden in productielanden | AG72: Voedselzekerheid | AH72: Incidenteel specifieke informatie opvragen | AJ72: Voedselzekerheid | AK72: Anders, namelijk | AU72: Maak uw keuze: | AV72: 0 | AY72: Het systeem bevat een centrale registratie van alle ontvangen meldingen en hoe deze zijn afgehandeld. | AZ72: Het systeem bevat een centrale registratie van alle ontvangen meldngen en hoe deze zijn afgehandeld.
E73: Groente- en Fruitproducten (VIGEF) | P73: Garnalen | R73: Anders, namelijk | S73: Anders, namelijk.. | V73: Watervervuiling en gebruik chemicaliën, water en energie | W73: Dit hebben wij niet gedaan, en zijn dit ook niet van plan in het komende jaar. | AA73: Gebrek aan interne capaciteit (mankracht) | AC73: Wij delen dit alleen met het bevoegd gezag. | AF73: Werkgeversorganisaties in Nederland | AG73: Voedselveiligheid & voedselkwaliteit | AH73: Als onderdeel van de agenda bij regulier contact, bijv. de jaarlijke leveranciersgesprekken | AJ73: Voedselveiligheid & voedselkwaliteit | AU73: =AU65 -> Staat op zichzelf | AV73: 2 | AY73: Het systeem wordt gebruikt als bron van leren (input voor verbeteringen) | AZ73: Het systeem wordt gebruikt als bron van leren (input voor verbeteringen)
E74: IJs (NVC) | P74: Tonijn | V74: Dierenwelzijn | W74: Dit hebben wij nog niet gedaan omdat we eerst willen bekijken hoe we dit het beste kunnen doen en daar kunnen wij wel wat hulpmiddelen voor gebruiken. | AA74: Gebrek aan interne kennis | AC74: Dit doen wij nog niet maar dit willen wij in het komend jaar gaan doen | AF74: Werkgeversorganisaties in productielanden | AG74: Landrechten en toegang tot natuurlijke hulpbronnen | AH74: Dit doen wij nog niet, maar zijn dit in het komende jaar wel van plan. | AJ74: Landrechten en toegang tot natuurlijke hulpbronnen | AU74: =AU66 -> Onderdeel van breder MVO beleid | AV74: 5 | AY74: Anders, namelijk | AZ74: Het systeem is bekend bij werknemers in productielanden
E75: Kinder- en dieetvoeding (VNFKD) | P75: Citrusvruchten | V75: Anders, namelijk | W75: Anders, namelijk | AA75: Onvoldoende beschikbaarheid (volume) van duurzame grondstoffen. | AC75: Dit hebben wij nog niet gedaan omdat we eerst willen bekijken hoe we dit het beste kunnen doen en daar kunnen wij wel wat hulpmiddelen voor gebruiken. | AF75: Nationale overheden in Nederland | AG75: Preventie van Watervervuiling en gebruik chemicaliën, efficiency water en energieverbruik | AH75: Dit doen wij niet en zijn wij in het komende jaar ook niet van plan. | AJ75: Preventie van Watervervuiling en gebruik chemicaliën, efficiency water en energieverbruik | AU75: =AU67 -> Weet ik niet | AV75: 0 | AZ75: Het systeem is gemakkelijk toegankelijk voor alle werknemers in productielanden
E76: Koffie & Thee (Koffie & Thee NL) | P76: Koffie | AA76: Wij ervaren geen belemmeringen. | AC76: Wij zijn dit ook niet van plan in het komend jaar, omdat | AF76: Nationale overheden in productielanden | AG76: Dierenwelzijn | AH76: Anders, namelijk | AJ76: Dierenwelzijn | AZ76: Anders, namelijk
E77: Rijst (Vereniging rijstpellers) | P77: Thee | AA77: Overig, namelijk | AF77: Regionale overheid in Nederland | AG77: Duurzaam verpakken | AJ77: Duurzaam verpakken
E78: Smeltkaas (BenluxSmelt) | P78: Shea (Karité) | AF78: Regionale overheid in productielanden | AG78: Duurzaam transport | AJ78: Duurzaam transport
E79: Snacks & Kokswaren (AKSV) | P79: Specerijen | AF79: Anders, namelijk | AG79: CO2 footprint | AJ79: CO2 footprint
E80: Kruiden & Specerijen (KNSV) | P80: Groenten | AG80: Aandeel lokale grondstoffen | AJ80: Aandeel lokale grondstoffen
E81: Vis (Visfederatie) | P81: Vers fruit | AG81: Verminderen uitval (ter preventie verspilling) | AJ81: Verminderen uitval (ter preventie verspilling)
E82: Vlees & Vleeswaren (COV) | P82: Overig, namelijk | AG82: anders namelijk: | AJ82: Anders, namelijk
E83: Zuivel (NZO)
E84: Overig
E88: Keuzeopties | F88: Punten normaal | G88: punten laag | H88: punten hoog
E89: Maak uw keuze: | F89: 0 | G89: 0 | H89: 0
E90: Ja | F90: 3 | G90: 1 | H90: 5 | I90: max
E91: Nee | F91: 0 | G91: 0 | H91: 0
E92: Deels | F92: 1 | G92: 0 | H92: 2
E93: Weet ik niet | F93: 0 | G93: 0 | H93: 0
