Workbook

Sheet VRAGEN
A1: VRAGEN MKB-Quickscan IMVO-risicomanagement | D1: Uw antwoord | E1: Score Max | F1: Uw Score | H1: Wat nu?
A2: RS | B2: Voedingsmiddelenconvenant
A4: Algemeen
A5: =Codes1!A4 -> 1 | B5: =Codes1!C4 -> Tot welke sector (organisatie) behoort uw bedrijf? | D5: Maak uw keuze:
A7: =Codes1!A5 -> 2 | B7: =Codes1!C5 -> Welk type bedrijf betreft het? | D7: Maak uw keuze:
A9: =Codes1!A6 -> 3 | B9: =Codes1!C6 -> Wat is uw functie? | D9: Maak uw keuze:
A11: Inzicht & Actie
A12: =Codes1!A7 -> 4 | B12: =Codes1!C7 -> Heeft uw onderneming een actueel overzicht van de producten die u produceert en de daarin aanwezige grondstoffen? | D12: Maak uw keuze: | E12: =Codes1!$H$90 -> 5 | F12: =VLOOKUP(D12,Codes1!$E$89:$H$93,4,FALSE) -> 0 | H12: =VLOOKUP(D12,Codes1!D54:AZ58,5,FALSE)
A14: =Codes1!A8 -> 5 | B14: =Codes1!C8 -> Heeft uw onderneming een actueel overzicht van de eerstelijns productielocaties en subcontractors, inclusief naam en adresgegevens? | D14: Maak uw keuze: | E14: =Codes1!$H$90 -> 5 | F14: =VLOOKUP(D14,Codes1!$E$89:$H$93,4,FALSE) -> 0
A16: =Codes1!A9 -> 6 | B16: =Codes1!C9 -> Houdt u een periodieke evaluatie van de risico's en gevaren van uw grondstoffen en de borging hiervan bij uw leveranciers (gevarenidentificatie en risico-analyse: GIRA)? | D16: Maak uw keuze: | E16: =Codes1!$F$90 -> 3 | F16: =VLOOKUP(D16,Codes1!$E$89:$H$93,2,FALSE) -> 0
A18: =Codes1!A10 -> 7 | B18: =Codes1!C10 -> Welk type risico neemt u mee in deze GIRA? | C18: Type risico | D18: =D33 -> Geef hieronder uw antwoord
B19: (meerdere antwoorden mogelijk) | C19: =Codes1!K65 -> Voedselveiligheid | D19: Maak uw keuze: | E19: 3 | F19: =VLOOKUP(D19,Codes1!$E$89:$H$93,2,FALSE) -> 0
C20: =Codes1!K66 -> Voedselfraude | D20: Maak uw keuze: | E20: 3 | F20: =VLOOKUP(D20,Codes1!$E$89:$H$93,2,FALSE) -> 0
C21: =Codes1!K67 -> Arbeidsrechten | D21: Maak uw keuze: | E21: =Codes1!$H$90 -> 5 | F21: =VLOOKUP(D21,Codes1!$E$89:$H$93,4,FALSE) -> 0
C22: =Codes1!K68 -> Mensenrechten | D22: Maak uw keuze: | E22: =Codes1!$H$90 -> 5 | F22: =VLOOKUP(D22,Codes1!$E$89:$H$93,4,FALSE) -> 0
C23: =Codes1!K69 -> Milieu-impact | D23: Maak uw keuze: | E23: =Codes1!$H$90 -> 5 | F23: =VLOOKUP(D23,Codes1!$E$89:$H$93,4,FALSE) -> 0
A25: =Codes1!A11 -> 8 | B25: =Codes1!C11 -> Heeft u inzicht in het aantal schakels tussen uw onderneming en de primaire producent (de boer) van uw grondstoffen? | D25: Maak uw keuze: | E25: 5 | F25: =VLOOKUP(D25,Codes1!$E$89:$H$93,4,FALSE) -> 0
A27: =Codes1!A12 -> 9 | B27: =Codes1!C12 -> Heeft u directe leveranciers in hoog risico landen (zie lijst DAC?)? | D27: Maak uw keuze:
A29: =Codes1!A13 -> 10 | B29: =Codes1!C13 -> Heeft u onderzocht in hoeverre leveranciers voldoen aan internationale richtlijnen voor mensenrechten, arbeidsrecht en milieu? | D29: Maak uw keuze: | E29: 5 | F29: =VLOOKUP(D29,Codes1!$E$89:$H$93,4,FALSE) -> 0
A31: =Codes1!A14 -> 11 | B31: =Codes1!C14 -> Bent u bekend met het land van oorsprong van al uw grondstoffen, inclusief van de ingredienten in samengestelde grondstoffen? | D31: Maak uw keuze: | E31: 5 | F31: =VLOOKUP(D31,Codes1!$E$89:$H$93,4,FALSE) -> 0
A33: =Codes1!A15 -> 12 | B33: =Codes1!C15 -> Welk van de volgende grondstoffen zijn aanwezig in uw producten (rechtstreeks dan wel als onderdeel van samengestelde grondstoffen)? | C33: Grondstoffen | D33: Geef hieronder uw antwoord
C34: =Codes1!P65 -> Palmolie | D34: Maak uw keuze:
C35: =Codes1!P66 -> Soja | D35: Maak uw keuze:
C36: =Codes1!P67 -> Cacao | D36: Maak uw keuze:
C37: =Codes1!P68 -> Vanille | D37: Maak uw keuze:
C38: =Codes1!P69 -> Rijst | D38: Maak uw keuze:
C39: =Codes1!P70 -> Cashewnoten | D39: Maak uw keuze:
C40: =Codes1!P71 -> Kokos (incl. kokosolie) | D40: Maak uw keuze:
C41: =Codes1!P72 -> Rietsuiker | D41: Maak uw keuze:
C42: =Codes1!P73 -> Garnalen | D42: Maak uw keuze:
C43: =Codes1!P74 -> Tonijn | D43: Maak uw keuze:
C44: =Codes1!P75 -> Citrusvruchten | D44: Maak uw keuze:
C45: =Codes1!P76 -> Koffie | D45: Maak uw keuze:
... C51: =Codes1!P82 -> Overig, namelijk | D51: …
A53: =Codes1!A16 -> 13 | B53: =Codes1!C16 -> Bent u bekend met de IMVO risico's van deze grondstoffen terug in de keten (voorbij uw eerste leveranciers)? | D53: Maak uw keuze: | E53: 5 | F53: =VLOOKUP(D53,Codes1!$E$89:$H$93,4,FALSE) -> 0
A55: =Codes1!A17 -> 14 | B55: =Codes1!C17 -> Welke maatregelen treft u om deze risico's te verminderen/ weg te nemen? | C55: Maatregelen | D55: =D33 -> Geef hieronder uw antwoord
C56: =Codes1!R65 -> Inkoop van hetzelfde ingredient met een MVO certificaat (bijv. RSPO palmolie, UTZ cacao, Beter Leven Kip) | D56: Maak uw keuze: | E56: =Codes1!$G$90 -> 1 | F56: =VLOOKUP(D56,Codes1!$E$89:$H$93,3,FALSE) -> 0
C57: =Codes1!R66 -> Samen met leverancier doelen stellen voor stapsgewijze verduurzaming van de bestaande grondstof | D57: Maak uw keuze: | E57: =Codes1!$G$90 -> 1 | F57: =VLOOKUP(D57,Codes1!$E$89:$H$93,3,FALSE) -> 0
C58: =Codes1!R67 -> Mijn leverancier is aangesloten bij grondstofspecifiek MVO keteninitiatief (bijv. Sustainable Spices Initiative) | D58: Maak uw keuze: | E58: =Codes1!$F$90 -> 3 | F58: =VLOOKUP(D58,Codes1!$E$89:$H$93,2,FALSE) -> 0
C59: =Codes1!R68 -> Wij zijn zelf aangesloten bij keteninitiatief voor verduurzaming van deze specifieke grondstofketen. | D59: Maak uw keuze: | E59: 5 | F59: =VLOOKUP(D59,Codes1!$E$89:$H$93,4,FALSE) -> 0
...

Sheet Codes1
A1: Codes van MKB-SAT. NIET AANPASSEN!
A2: VRAGEN:
A3: # | C3: VRAAG | D3: Antwoorden
A4: 1 | C4: Tot welke sector (organisatie) behoort uw bedrijf?
A5: 2 | C5: Welk type bedrijf betreft het?
A6: 3 | C6: Wat is uw functie?
A7: 4 | C7: Heeft uw onderneming een actueel overzicht van de producten die u produceert en de daarin aanwezige grondstoffen?
A8: 5 | C8: Heeft uw onderneming een actueel overzicht van de eerstelijns productielocaties en subcontractors, inclusief naam en adresgegevens?
A9: 6 | C9: Houdt u een periodieke evaluatie van de risico's en gevaren van uw grondstoffen en de borging hiervan bij uw leveranciers (gevarenidentificatie en risico-analyse: GIRA)?
A10: 7 | C10: Welk type risico neemt u mee in deze GIRA?
A11: 8 | C11: Heeft u inzicht in het aantal schakels tussen uw onderneming en de primaire producent (de boer) van uw grondstoffen?
A12: 9 | C12: Heeft u directe leveranciers in hoog risico landen (zie lijst DAC?)?
A13: 10 | B13: bij ja 9 | C13: Heeft u onderzocht in hoeverre leveranciers voldoen aan internationale richtlijnen voor mensenrechten, arbeidsrecht en milieu?
A14: 11 | C14: Bent u bekend met het land van oorsprong van al uw grondstoffen, inclusief van de ingredienten in samengestelde grondstoffen?
A15: 12 | C15: Welk van de volgende grondstoffen zijn aanwezig in uw producten (rechtstreeks dan wel als onderdeel van samengestelde grondstoffen)?
A16: 13 | C16: Bent u bekend met de IMVO risico's van deze grondstoffen terug in de keten (voorbij uw eerste leveranciers)?
A17: 14 | C17: Welke maatregelen treft u om deze risico's te verminderen/ weg te nemen?
A18: 15 | C18: Op welke manier heeft u het inzicht in de IMVO-risico's van uw grondstoffen verkregen? (meerdere antwoorden mogelijk)
A19: 16 | C19: Heeft u inzicht in de IMVO-ketenrisico's van uw (overige) top 5 volume grondstoffen, inclusief de risico's van afzonderlijke ingredienten bij samengestelde grondstoffen?
A20: 17 | C20: Heeft u inzicht in de IMVO-ketenrisico's van overige kenmerkende ingredienten in uw producten.
A21: 18 | B21: bij ja 16/17 | C21: Welk type IMVO-risico's heeft u onderzocht in deze grondstofketen(s) - Meerdere antwoorden mogelijk
A22: 19 | C22: Op welke manier heeft u bepaald welke grondstoffen en risico's prioriteit hebben voor actie vanuit uw bedrijf? (meerdere antwoorden mogelijk)
A23: 20 | C23: Worden bij nieuwe inkoopbeslissingen eerst de mogelijke IMVO-risico's onderzocht?
A24: 21 | C24: Heeft uw onderneming intensieve samenwerkingsprogramma’s met het doel gezamenlijk duurzaamheid in de keten te verbeteren met toeleveranciers?
A25: 22 | C25: Op welke wijze borgt u het up-to-date blijven van uw IMVO-risico-inventarisatie? (meerdere antwoorden mogelijk)
A26: 23 | C26: Wat zijn de belangrijkste omstandigheden die u belemmeren IMVO-maatregelen in de handelsketen door te voeren? (meerdere antwoorden mogelijk)
A27: 24 | C27: Zijn er acties benoemd in een plan van aanpak en worden/zijn deze opgepakt en afgehandeld?
A28: 25 | C28: Bent u transparant over uw IMVO-doelen en de voortgang op het behalen hiervan? (meerdere antwoorden mogelijk)
A29: 26 | C29: Bent u hierbij transparant over knelpunten en uitdagingen die u tegen komt en over het evt. niet behalen van eerder gestelde doelen (leg uit waarom indien niet/deels)?
A30: 27 | C30: Overlegt u over MVO/ MVI met belanghebbenden in de keten?
A31: 28 | C31: Zo ja, met welke belanghebbenden?
A32: 29 | C32: Zo ja, over welke onderwerpen spreekt u dan? (meerdere antwoorden mogelijk)
A33: 30 | C33: Op welke wijze vindt monitoring & evaluatie van uw toeleveranciers en producenten plaats ? (meerdere antwoorden mogelijk)
... A51: 48 | C51: Heeft u binnen de EXTERNE klachtenregeling de volgende zaken geborgd? (meerdere antwoorden mogelijk)
D52: Vragen
D53: ALGEMEEN | E53: =$A4 -> 1 | F53: =$A5 -> 2 | G53: =$A6 -> 3 | H53: =$A7 -> 4 | I53: =$A8 -> 5 | J53: =$A9 -> 6 | K53: =$A10 -> 7 | L53: =$A11 -> 8 | M53: =$A12 -> 9 | N53: =$A13 -> 10 | O53: =$A14 -> 11 | P53: =$A15 -> 12 | Q53: =$A16 -> 13 | R53: =$A17 -> 14 | S53: =$A18 -> 15 | T53: =$A19 -> 16 | U53: =$A20 -> 17 | V53: =$A21 -> 18 | W53: =$A22 -> 19 | X53: =$A23 -> 20 | Y53: =$A24 -> 21 | Z53: =$A25 -> 22 | AA53: =$A26 -> 23 | AB53: =$A27 -> 24 | AC53: =$A28 -> 25 | AD53: =$A29 -> 26 | AE53: =$A30 -> 27 | AF53: =$A31 -> 28 | AG53: =$A32 -> 29 | AH53: =$A33 -> 30 | AI53: =$A34 -> 31 | AJ53: =$A35 -> 32 | AK53: =$A36 -> 33 | AL53: =$A37 -> 34 | AM53: =$A38 -> 35 | AN53: =$A39 -> 36 | AO53: =$A40 -> 37 | AP53: =$A41 -> 38 | AQ53: =$A42 -> 39 | AR53: =$A43 -> 40 | AS53: =$A44 -> 41 | AT53: =$A45 -> 42 | AU53: =$A46 -> 43 | AV53: =$A47 -> 44 | AW53: =$A48 -> 45 | AX53: =$A49 -> 46 | AY53: =$A50 -> 47 | AZ53: =$A51 -> 48
D54: =E89 -> Maak uw keuze:
D55: =E90 -> Ja | H55: Zorg dat dit overzicht bijgewerkt blijft en toegankelijk is.
D56: =E91 -> Nee | H56: Inventariseer welke producten de onderneming produceert en geef aan welke grondstoffen u hierbij gebruikt.
D57: =E92 -> Deels | H57: Noteer welke informatie u nodig heeft, welke u daadwerklijk in beeld hebt en welke informatie nog nodig is
...
